BEGIN:VCALENDAR
VERSION:2.0
PRODID:-//Andrea Zipperle - ECPv6.15.17.1//NONSGML v1.0//EN
CALSCALE:GREGORIAN
METHOD:PUBLISH
X-ORIGINAL-URL:https://andrea-zipperle.de
X-WR-CALDESC:Veranstaltungen für Andrea Zipperle
REFRESH-INTERVAL;VALUE=DURATION:PT1H
X-Robots-Tag:noindex
X-PUBLISHED-TTL:PT1H
BEGIN:VTIMEZONE
TZID:UTC
BEGIN:STANDARD
TZOFFSETFROM:+0000
TZOFFSETTO:+0000
TZNAME:UTC
DTSTART:20250101T000000
END:STANDARD
END:VTIMEZONE
BEGIN:VEVENT
DTSTART;VALUE=DATE:20260912
DTEND;VALUE=DATE:20260914
DTSTAMP:20260420T135546
CREATED:20260131T111357Z
LAST-MODIFIED:20260131T111357Z
UID:21244553-1789171200-1789343999@andrea-zipperle.de
SUMMARY:Kunsthandwerkermarkt Melchingen
DESCRIPTION:
URL:https://andrea-zipperle.de/termin/kunsthandwerkermarkt-melchingen-2/
END:VEVENT
END:VCALENDAR